BEGIN:VCALENDAR
VERSION:2.0
PRODID:-//KLE-Was - ECPv6.15.17.1//NONSGML v1.0//EN
CALSCALE:GREGORIAN
METHOD:PUBLISH
X-ORIGINAL-URL:https://kle-was.de
X-WR-CALDESC:Veranstaltungen für KLE-Was
REFRESH-INTERVAL;VALUE=DURATION:PT1H
X-Robots-Tag:noindex
X-PUBLISHED-TTL:PT1H
BEGIN:VTIMEZONE
TZID:Europe/Berlin
BEGIN:DAYLIGHT
TZOFFSETFROM:+0100
TZOFFSETTO:+0200
TZNAME:CEST
DTSTART:20250330T010000
END:DAYLIGHT
BEGIN:STANDARD
TZOFFSETFROM:+0200
TZOFFSETTO:+0100
TZNAME:CET
DTSTART:20251026T010000
END:STANDARD
BEGIN:DAYLIGHT
TZOFFSETFROM:+0100
TZOFFSETTO:+0200
TZNAME:CEST
DTSTART:20260329T010000
END:DAYLIGHT
BEGIN:STANDARD
TZOFFSETFROM:+0200
TZOFFSETTO:+0100
TZNAME:CET
DTSTART:20261025T010000
END:STANDARD
BEGIN:DAYLIGHT
TZOFFSETFROM:+0100
TZOFFSETTO:+0200
TZNAME:CEST
DTSTART:20270328T010000
END:DAYLIGHT
BEGIN:STANDARD
TZOFFSETFROM:+0200
TZOFFSETTO:+0100
TZNAME:CET
DTSTART:20271031T010000
END:STANDARD
BEGIN:DAYLIGHT
TZOFFSETFROM:+0100
TZOFFSETTO:+0200
TZNAME:CEST
DTSTART:20280326T010000
END:DAYLIGHT
BEGIN:STANDARD
TZOFFSETFROM:+0200
TZOFFSETTO:+0100
TZNAME:CET
DTSTART:20281029T010000
END:STANDARD
END:VTIMEZONE
BEGIN:VEVENT
DTSTART;TZID=Europe/Berlin:20260515T100000
DTEND;TZID=Europe/Berlin:20260515T104500
DTSTAMP:20260422T212902
CREATED:20260305T162610Z
LAST-MODIFIED:20260305T162625Z
UID:10000068-1778839200-1778841900@kle-was.de
SUMMARY:Kleine Entdecker\, große Abenteuer – Veranstaltungsreihe „Bücherknirpse“
DESCRIPTION:Die neue kostenlose Veranstaltungsreihe „Bücherknirpse“ richtet sich an die Kleinsten zwischen 0 und 3 Jahren sowie ihre Eltern und startet am 20. März 2026 in der Stadtbücherei Goch. Bei den Bücherknirpsen lernen die Kinder schon früh Bücher\, Spiele und Musik für ihre Altersgruppe kennen. Eine Anmeldung ist nicht notwendig. \nDie Veranstaltungsreihe ist eine Kooperation der Stadtbücherei Goch und den Frühen Hilfen der Stadt Goch und findet jeden dritten Freitag im Monat von 10 bis 10:45 Uhr in der Stadtbücherei\, Pfalzdorfer Straße 47\, statt. Die Termine sind 20. März 2026\, 17. April 2026\, 15. Mai 2026\, 19. Juni 2026 sowie 17. Juli 2026. \nFragen zur neuen Veranstaltungsreihe beantworten Gina Zanichelli vom Jugendamt – Pädagogische Dienste\, Telefon 0 28 23 320-143 oder per E-Mail an gina.zanichelli@goch.de oder Daniela Verhoeven von der Stadtbücherei Goch\, Telefon 0 28 23 88 1 58 oder per E-Mail an stadtbuecherei@goch.de.
URL:https://kle-was.de/event/kleine-entdecker-grosse-abenteuer-veranstaltungsreihe-buecherknirpse/2026-05-15/
LOCATION:Stadtbücherei Goch\, Pfalzdorfer Str. 47\, Goch\, 47574\, Germany
CATEGORIES:Goch
GEO:51.6832159;6.163764
X-APPLE-STRUCTURED-LOCATION;VALUE=URI;X-ADDRESS=Stadtbücherei Goch Pfalzdorfer Str. 47 Goch 47574 Germany;X-APPLE-RADIUS=500;X-TITLE=Pfalzdorfer Str. 47:geo:6.163764,51.6832159
END:VEVENT
BEGIN:VEVENT
DTSTART;TZID=Europe/Berlin:20260619T100000
DTEND;TZID=Europe/Berlin:20260619T104500
DTSTAMP:20260422T212902
CREATED:20260305T162610Z
LAST-MODIFIED:20260305T162625Z
UID:10000069-1781863200-1781865900@kle-was.de
SUMMARY:Kleine Entdecker\, große Abenteuer – Veranstaltungsreihe „Bücherknirpse“
DESCRIPTION:Die neue kostenlose Veranstaltungsreihe „Bücherknirpse“ richtet sich an die Kleinsten zwischen 0 und 3 Jahren sowie ihre Eltern und startet am 20. März 2026 in der Stadtbücherei Goch. Bei den Bücherknirpsen lernen die Kinder schon früh Bücher\, Spiele und Musik für ihre Altersgruppe kennen. Eine Anmeldung ist nicht notwendig. \nDie Veranstaltungsreihe ist eine Kooperation der Stadtbücherei Goch und den Frühen Hilfen der Stadt Goch und findet jeden dritten Freitag im Monat von 10 bis 10:45 Uhr in der Stadtbücherei\, Pfalzdorfer Straße 47\, statt. Die Termine sind 20. März 2026\, 17. April 2026\, 15. Mai 2026\, 19. Juni 2026 sowie 17. Juli 2026. \nFragen zur neuen Veranstaltungsreihe beantworten Gina Zanichelli vom Jugendamt – Pädagogische Dienste\, Telefon 0 28 23 320-143 oder per E-Mail an gina.zanichelli@goch.de oder Daniela Verhoeven von der Stadtbücherei Goch\, Telefon 0 28 23 88 1 58 oder per E-Mail an stadtbuecherei@goch.de.
URL:https://kle-was.de/event/kleine-entdecker-grosse-abenteuer-veranstaltungsreihe-buecherknirpse/2026-06-19/
LOCATION:Stadtbücherei Goch\, Pfalzdorfer Str. 47\, Goch\, 47574\, Germany
CATEGORIES:Goch
GEO:51.6832159;6.163764
X-APPLE-STRUCTURED-LOCATION;VALUE=URI;X-ADDRESS=Stadtbücherei Goch Pfalzdorfer Str. 47 Goch 47574 Germany;X-APPLE-RADIUS=500;X-TITLE=Pfalzdorfer Str. 47:geo:6.163764,51.6832159
END:VEVENT
BEGIN:VEVENT
DTSTART;TZID=Europe/Berlin:20260717T100000
DTEND;TZID=Europe/Berlin:20260717T104500
DTSTAMP:20260422T212902
CREATED:20260305T162610Z
LAST-MODIFIED:20260305T162625Z
UID:10000070-1784282400-1784285100@kle-was.de
SUMMARY:Kleine Entdecker\, große Abenteuer – Veranstaltungsreihe „Bücherknirpse“
DESCRIPTION:Die neue kostenlose Veranstaltungsreihe „Bücherknirpse“ richtet sich an die Kleinsten zwischen 0 und 3 Jahren sowie ihre Eltern und startet am 20. März 2026 in der Stadtbücherei Goch. Bei den Bücherknirpsen lernen die Kinder schon früh Bücher\, Spiele und Musik für ihre Altersgruppe kennen. Eine Anmeldung ist nicht notwendig. \nDie Veranstaltungsreihe ist eine Kooperation der Stadtbücherei Goch und den Frühen Hilfen der Stadt Goch und findet jeden dritten Freitag im Monat von 10 bis 10:45 Uhr in der Stadtbücherei\, Pfalzdorfer Straße 47\, statt. Die Termine sind 20. März 2026\, 17. April 2026\, 15. Mai 2026\, 19. Juni 2026 sowie 17. Juli 2026. \nFragen zur neuen Veranstaltungsreihe beantworten Gina Zanichelli vom Jugendamt – Pädagogische Dienste\, Telefon 0 28 23 320-143 oder per E-Mail an gina.zanichelli@goch.de oder Daniela Verhoeven von der Stadtbücherei Goch\, Telefon 0 28 23 88 1 58 oder per E-Mail an stadtbuecherei@goch.de.
URL:https://kle-was.de/event/kleine-entdecker-grosse-abenteuer-veranstaltungsreihe-buecherknirpse/2026-07-17/
LOCATION:Stadtbücherei Goch\, Pfalzdorfer Str. 47\, Goch\, 47574\, Germany
CATEGORIES:Goch
GEO:51.6832159;6.163764
X-APPLE-STRUCTURED-LOCATION;VALUE=URI;X-ADDRESS=Stadtbücherei Goch Pfalzdorfer Str. 47 Goch 47574 Germany;X-APPLE-RADIUS=500;X-TITLE=Pfalzdorfer Str. 47:geo:6.163764,51.6832159
END:VEVENT
BEGIN:VEVENT
DTSTART;TZID=Europe/Berlin:20260821T100000
DTEND;TZID=Europe/Berlin:20260821T104500
DTSTAMP:20260422T212902
CREATED:20260305T162610Z
LAST-MODIFIED:20260305T162625Z
UID:10000071-1787306400-1787309100@kle-was.de
SUMMARY:Kleine Entdecker\, große Abenteuer – Veranstaltungsreihe „Bücherknirpse“
DESCRIPTION:Die neue kostenlose Veranstaltungsreihe „Bücherknirpse“ richtet sich an die Kleinsten zwischen 0 und 3 Jahren sowie ihre Eltern und startet am 20. März 2026 in der Stadtbücherei Goch. Bei den Bücherknirpsen lernen die Kinder schon früh Bücher\, Spiele und Musik für ihre Altersgruppe kennen. Eine Anmeldung ist nicht notwendig. \nDie Veranstaltungsreihe ist eine Kooperation der Stadtbücherei Goch und den Frühen Hilfen der Stadt Goch und findet jeden dritten Freitag im Monat von 10 bis 10:45 Uhr in der Stadtbücherei\, Pfalzdorfer Straße 47\, statt. Die Termine sind 20. März 2026\, 17. April 2026\, 15. Mai 2026\, 19. Juni 2026 sowie 17. Juli 2026. \nFragen zur neuen Veranstaltungsreihe beantworten Gina Zanichelli vom Jugendamt – Pädagogische Dienste\, Telefon 0 28 23 320-143 oder per E-Mail an gina.zanichelli@goch.de oder Daniela Verhoeven von der Stadtbücherei Goch\, Telefon 0 28 23 88 1 58 oder per E-Mail an stadtbuecherei@goch.de.
URL:https://kle-was.de/event/kleine-entdecker-grosse-abenteuer-veranstaltungsreihe-buecherknirpse/2026-08-21/
LOCATION:Stadtbücherei Goch\, Pfalzdorfer Str. 47\, Goch\, 47574\, Germany
CATEGORIES:Goch
GEO:51.6832159;6.163764
X-APPLE-STRUCTURED-LOCATION;VALUE=URI;X-ADDRESS=Stadtbücherei Goch Pfalzdorfer Str. 47 Goch 47574 Germany;X-APPLE-RADIUS=500;X-TITLE=Pfalzdorfer Str. 47:geo:6.163764,51.6832159
END:VEVENT
BEGIN:VEVENT
DTSTART;TZID=Europe/Berlin:20260918T100000
DTEND;TZID=Europe/Berlin:20260918T104500
DTSTAMP:20260422T212902
CREATED:20260305T162610Z
LAST-MODIFIED:20260305T162625Z
UID:10000072-1789725600-1789728300@kle-was.de
SUMMARY:Kleine Entdecker\, große Abenteuer – Veranstaltungsreihe „Bücherknirpse“
DESCRIPTION:Die neue kostenlose Veranstaltungsreihe „Bücherknirpse“ richtet sich an die Kleinsten zwischen 0 und 3 Jahren sowie ihre Eltern und startet am 20. März 2026 in der Stadtbücherei Goch. Bei den Bücherknirpsen lernen die Kinder schon früh Bücher\, Spiele und Musik für ihre Altersgruppe kennen. Eine Anmeldung ist nicht notwendig. \nDie Veranstaltungsreihe ist eine Kooperation der Stadtbücherei Goch und den Frühen Hilfen der Stadt Goch und findet jeden dritten Freitag im Monat von 10 bis 10:45 Uhr in der Stadtbücherei\, Pfalzdorfer Straße 47\, statt. Die Termine sind 20. März 2026\, 17. April 2026\, 15. Mai 2026\, 19. Juni 2026 sowie 17. Juli 2026. \nFragen zur neuen Veranstaltungsreihe beantworten Gina Zanichelli vom Jugendamt – Pädagogische Dienste\, Telefon 0 28 23 320-143 oder per E-Mail an gina.zanichelli@goch.de oder Daniela Verhoeven von der Stadtbücherei Goch\, Telefon 0 28 23 88 1 58 oder per E-Mail an stadtbuecherei@goch.de.
URL:https://kle-was.de/event/kleine-entdecker-grosse-abenteuer-veranstaltungsreihe-buecherknirpse/2026-09-18/
LOCATION:Stadtbücherei Goch\, Pfalzdorfer Str. 47\, Goch\, 47574\, Germany
CATEGORIES:Goch
GEO:51.6832159;6.163764
X-APPLE-STRUCTURED-LOCATION;VALUE=URI;X-ADDRESS=Stadtbücherei Goch Pfalzdorfer Str. 47 Goch 47574 Germany;X-APPLE-RADIUS=500;X-TITLE=Pfalzdorfer Str. 47:geo:6.163764,51.6832159
END:VEVENT
BEGIN:VEVENT
DTSTART;TZID=Europe/Berlin:20261016T100000
DTEND;TZID=Europe/Berlin:20261016T104500
DTSTAMP:20260422T212902
CREATED:20260305T162610Z
LAST-MODIFIED:20260305T162625Z
UID:10000073-1792144800-1792147500@kle-was.de
SUMMARY:Kleine Entdecker\, große Abenteuer – Veranstaltungsreihe „Bücherknirpse“
DESCRIPTION:Die neue kostenlose Veranstaltungsreihe „Bücherknirpse“ richtet sich an die Kleinsten zwischen 0 und 3 Jahren sowie ihre Eltern und startet am 20. März 2026 in der Stadtbücherei Goch. Bei den Bücherknirpsen lernen die Kinder schon früh Bücher\, Spiele und Musik für ihre Altersgruppe kennen. Eine Anmeldung ist nicht notwendig. \nDie Veranstaltungsreihe ist eine Kooperation der Stadtbücherei Goch und den Frühen Hilfen der Stadt Goch und findet jeden dritten Freitag im Monat von 10 bis 10:45 Uhr in der Stadtbücherei\, Pfalzdorfer Straße 47\, statt. Die Termine sind 20. März 2026\, 17. April 2026\, 15. Mai 2026\, 19. Juni 2026 sowie 17. Juli 2026. \nFragen zur neuen Veranstaltungsreihe beantworten Gina Zanichelli vom Jugendamt – Pädagogische Dienste\, Telefon 0 28 23 320-143 oder per E-Mail an gina.zanichelli@goch.de oder Daniela Verhoeven von der Stadtbücherei Goch\, Telefon 0 28 23 88 1 58 oder per E-Mail an stadtbuecherei@goch.de.
URL:https://kle-was.de/event/kleine-entdecker-grosse-abenteuer-veranstaltungsreihe-buecherknirpse/2026-10-16/
LOCATION:Stadtbücherei Goch\, Pfalzdorfer Str. 47\, Goch\, 47574\, Germany
CATEGORIES:Goch
GEO:51.6832159;6.163764
X-APPLE-STRUCTURED-LOCATION;VALUE=URI;X-ADDRESS=Stadtbücherei Goch Pfalzdorfer Str. 47 Goch 47574 Germany;X-APPLE-RADIUS=500;X-TITLE=Pfalzdorfer Str. 47:geo:6.163764,51.6832159
END:VEVENT
BEGIN:VEVENT
DTSTART;TZID=Europe/Berlin:20261120T100000
DTEND;TZID=Europe/Berlin:20261120T104500
DTSTAMP:20260422T212902
CREATED:20260305T162610Z
LAST-MODIFIED:20260305T162625Z
UID:10000074-1795168800-1795171500@kle-was.de
SUMMARY:Kleine Entdecker\, große Abenteuer – Veranstaltungsreihe „Bücherknirpse“
DESCRIPTION:Die neue kostenlose Veranstaltungsreihe „Bücherknirpse“ richtet sich an die Kleinsten zwischen 0 und 3 Jahren sowie ihre Eltern und startet am 20. März 2026 in der Stadtbücherei Goch. Bei den Bücherknirpsen lernen die Kinder schon früh Bücher\, Spiele und Musik für ihre Altersgruppe kennen. Eine Anmeldung ist nicht notwendig. \nDie Veranstaltungsreihe ist eine Kooperation der Stadtbücherei Goch und den Frühen Hilfen der Stadt Goch und findet jeden dritten Freitag im Monat von 10 bis 10:45 Uhr in der Stadtbücherei\, Pfalzdorfer Straße 47\, statt. Die Termine sind 20. März 2026\, 17. April 2026\, 15. Mai 2026\, 19. Juni 2026 sowie 17. Juli 2026. \nFragen zur neuen Veranstaltungsreihe beantworten Gina Zanichelli vom Jugendamt – Pädagogische Dienste\, Telefon 0 28 23 320-143 oder per E-Mail an gina.zanichelli@goch.de oder Daniela Verhoeven von der Stadtbücherei Goch\, Telefon 0 28 23 88 1 58 oder per E-Mail an stadtbuecherei@goch.de.
URL:https://kle-was.de/event/kleine-entdecker-grosse-abenteuer-veranstaltungsreihe-buecherknirpse/2026-11-20/
LOCATION:Stadtbücherei Goch\, Pfalzdorfer Str. 47\, Goch\, 47574\, Germany
CATEGORIES:Goch
GEO:51.6832159;6.163764
X-APPLE-STRUCTURED-LOCATION;VALUE=URI;X-ADDRESS=Stadtbücherei Goch Pfalzdorfer Str. 47 Goch 47574 Germany;X-APPLE-RADIUS=500;X-TITLE=Pfalzdorfer Str. 47:geo:6.163764,51.6832159
END:VEVENT
BEGIN:VEVENT
DTSTART;TZID=Europe/Berlin:20261218T100000
DTEND;TZID=Europe/Berlin:20261218T104500
DTSTAMP:20260422T212902
CREATED:20260305T162610Z
LAST-MODIFIED:20260305T162625Z
UID:10000075-1797588000-1797590700@kle-was.de
SUMMARY:Kleine Entdecker\, große Abenteuer – Veranstaltungsreihe „Bücherknirpse“
DESCRIPTION:Die neue kostenlose Veranstaltungsreihe „Bücherknirpse“ richtet sich an die Kleinsten zwischen 0 und 3 Jahren sowie ihre Eltern und startet am 20. März 2026 in der Stadtbücherei Goch. Bei den Bücherknirpsen lernen die Kinder schon früh Bücher\, Spiele und Musik für ihre Altersgruppe kennen. Eine Anmeldung ist nicht notwendig. \nDie Veranstaltungsreihe ist eine Kooperation der Stadtbücherei Goch und den Frühen Hilfen der Stadt Goch und findet jeden dritten Freitag im Monat von 10 bis 10:45 Uhr in der Stadtbücherei\, Pfalzdorfer Straße 47\, statt. Die Termine sind 20. März 2026\, 17. April 2026\, 15. Mai 2026\, 19. Juni 2026 sowie 17. Juli 2026. \nFragen zur neuen Veranstaltungsreihe beantworten Gina Zanichelli vom Jugendamt – Pädagogische Dienste\, Telefon 0 28 23 320-143 oder per E-Mail an gina.zanichelli@goch.de oder Daniela Verhoeven von der Stadtbücherei Goch\, Telefon 0 28 23 88 1 58 oder per E-Mail an stadtbuecherei@goch.de.
URL:https://kle-was.de/event/kleine-entdecker-grosse-abenteuer-veranstaltungsreihe-buecherknirpse/2026-12-18/
LOCATION:Stadtbücherei Goch\, Pfalzdorfer Str. 47\, Goch\, 47574\, Germany
CATEGORIES:Goch
GEO:51.6832159;6.163764
X-APPLE-STRUCTURED-LOCATION;VALUE=URI;X-ADDRESS=Stadtbücherei Goch Pfalzdorfer Str. 47 Goch 47574 Germany;X-APPLE-RADIUS=500;X-TITLE=Pfalzdorfer Str. 47:geo:6.163764,51.6832159
END:VEVENT
BEGIN:VEVENT
DTSTART;TZID=Europe/Berlin:20270115T100000
DTEND;TZID=Europe/Berlin:20270115T104500
DTSTAMP:20260422T212902
CREATED:20260305T162610Z
LAST-MODIFIED:20260305T162625Z
UID:10000076-1800007200-1800009900@kle-was.de
SUMMARY:Kleine Entdecker\, große Abenteuer – Veranstaltungsreihe „Bücherknirpse“
DESCRIPTION:Die neue kostenlose Veranstaltungsreihe „Bücherknirpse“ richtet sich an die Kleinsten zwischen 0 und 3 Jahren sowie ihre Eltern und startet am 20. März 2026 in der Stadtbücherei Goch. Bei den Bücherknirpsen lernen die Kinder schon früh Bücher\, Spiele und Musik für ihre Altersgruppe kennen. Eine Anmeldung ist nicht notwendig. \nDie Veranstaltungsreihe ist eine Kooperation der Stadtbücherei Goch und den Frühen Hilfen der Stadt Goch und findet jeden dritten Freitag im Monat von 10 bis 10:45 Uhr in der Stadtbücherei\, Pfalzdorfer Straße 47\, statt. Die Termine sind 20. März 2026\, 17. April 2026\, 15. Mai 2026\, 19. Juni 2026 sowie 17. Juli 2026. \nFragen zur neuen Veranstaltungsreihe beantworten Gina Zanichelli vom Jugendamt – Pädagogische Dienste\, Telefon 0 28 23 320-143 oder per E-Mail an gina.zanichelli@goch.de oder Daniela Verhoeven von der Stadtbücherei Goch\, Telefon 0 28 23 88 1 58 oder per E-Mail an stadtbuecherei@goch.de.
URL:https://kle-was.de/event/kleine-entdecker-grosse-abenteuer-veranstaltungsreihe-buecherknirpse/2027-01-15/
LOCATION:Stadtbücherei Goch\, Pfalzdorfer Str. 47\, Goch\, 47574\, Germany
CATEGORIES:Goch
GEO:51.6832159;6.163764
X-APPLE-STRUCTURED-LOCATION;VALUE=URI;X-ADDRESS=Stadtbücherei Goch Pfalzdorfer Str. 47 Goch 47574 Germany;X-APPLE-RADIUS=500;X-TITLE=Pfalzdorfer Str. 47:geo:6.163764,51.6832159
END:VEVENT
BEGIN:VEVENT
DTSTART;TZID=Europe/Berlin:20270219T100000
DTEND;TZID=Europe/Berlin:20270219T104500
DTSTAMP:20260422T212902
CREATED:20260305T162610Z
LAST-MODIFIED:20260305T162625Z
UID:10000077-1803031200-1803033900@kle-was.de
SUMMARY:Kleine Entdecker\, große Abenteuer – Veranstaltungsreihe „Bücherknirpse“
DESCRIPTION:Die neue kostenlose Veranstaltungsreihe „Bücherknirpse“ richtet sich an die Kleinsten zwischen 0 und 3 Jahren sowie ihre Eltern und startet am 20. März 2026 in der Stadtbücherei Goch. Bei den Bücherknirpsen lernen die Kinder schon früh Bücher\, Spiele und Musik für ihre Altersgruppe kennen. Eine Anmeldung ist nicht notwendig. \nDie Veranstaltungsreihe ist eine Kooperation der Stadtbücherei Goch und den Frühen Hilfen der Stadt Goch und findet jeden dritten Freitag im Monat von 10 bis 10:45 Uhr in der Stadtbücherei\, Pfalzdorfer Straße 47\, statt. Die Termine sind 20. März 2026\, 17. April 2026\, 15. Mai 2026\, 19. Juni 2026 sowie 17. Juli 2026. \nFragen zur neuen Veranstaltungsreihe beantworten Gina Zanichelli vom Jugendamt – Pädagogische Dienste\, Telefon 0 28 23 320-143 oder per E-Mail an gina.zanichelli@goch.de oder Daniela Verhoeven von der Stadtbücherei Goch\, Telefon 0 28 23 88 1 58 oder per E-Mail an stadtbuecherei@goch.de.
URL:https://kle-was.de/event/kleine-entdecker-grosse-abenteuer-veranstaltungsreihe-buecherknirpse/2027-02-19/
LOCATION:Stadtbücherei Goch\, Pfalzdorfer Str. 47\, Goch\, 47574\, Germany
CATEGORIES:Goch
GEO:51.6832159;6.163764
X-APPLE-STRUCTURED-LOCATION;VALUE=URI;X-ADDRESS=Stadtbücherei Goch Pfalzdorfer Str. 47 Goch 47574 Germany;X-APPLE-RADIUS=500;X-TITLE=Pfalzdorfer Str. 47:geo:6.163764,51.6832159
END:VEVENT
BEGIN:VEVENT
DTSTART;TZID=Europe/Berlin:20270319T100000
DTEND;TZID=Europe/Berlin:20270319T104500
DTSTAMP:20260422T212902
CREATED:20260305T162610Z
LAST-MODIFIED:20260305T162625Z
UID:10000078-1805450400-1805453100@kle-was.de
SUMMARY:Kleine Entdecker\, große Abenteuer – Veranstaltungsreihe „Bücherknirpse“
DESCRIPTION:Die neue kostenlose Veranstaltungsreihe „Bücherknirpse“ richtet sich an die Kleinsten zwischen 0 und 3 Jahren sowie ihre Eltern und startet am 20. März 2026 in der Stadtbücherei Goch. Bei den Bücherknirpsen lernen die Kinder schon früh Bücher\, Spiele und Musik für ihre Altersgruppe kennen. Eine Anmeldung ist nicht notwendig. \nDie Veranstaltungsreihe ist eine Kooperation der Stadtbücherei Goch und den Frühen Hilfen der Stadt Goch und findet jeden dritten Freitag im Monat von 10 bis 10:45 Uhr in der Stadtbücherei\, Pfalzdorfer Straße 47\, statt. Die Termine sind 20. März 2026\, 17. April 2026\, 15. Mai 2026\, 19. Juni 2026 sowie 17. Juli 2026. \nFragen zur neuen Veranstaltungsreihe beantworten Gina Zanichelli vom Jugendamt – Pädagogische Dienste\, Telefon 0 28 23 320-143 oder per E-Mail an gina.zanichelli@goch.de oder Daniela Verhoeven von der Stadtbücherei Goch\, Telefon 0 28 23 88 1 58 oder per E-Mail an stadtbuecherei@goch.de.
URL:https://kle-was.de/event/kleine-entdecker-grosse-abenteuer-veranstaltungsreihe-buecherknirpse/2027-03-19/
LOCATION:Stadtbücherei Goch\, Pfalzdorfer Str. 47\, Goch\, 47574\, Germany
CATEGORIES:Goch
GEO:51.6832159;6.163764
X-APPLE-STRUCTURED-LOCATION;VALUE=URI;X-ADDRESS=Stadtbücherei Goch Pfalzdorfer Str. 47 Goch 47574 Germany;X-APPLE-RADIUS=500;X-TITLE=Pfalzdorfer Str. 47:geo:6.163764,51.6832159
END:VEVENT
BEGIN:VEVENT
DTSTART;TZID=Europe/Berlin:20270416T100000
DTEND;TZID=Europe/Berlin:20270416T104500
DTSTAMP:20260422T212902
CREATED:20260305T162610Z
LAST-MODIFIED:20260305T162625Z
UID:10000079-1807869600-1807872300@kle-was.de
SUMMARY:Kleine Entdecker\, große Abenteuer – Veranstaltungsreihe „Bücherknirpse“
DESCRIPTION:Die neue kostenlose Veranstaltungsreihe „Bücherknirpse“ richtet sich an die Kleinsten zwischen 0 und 3 Jahren sowie ihre Eltern und startet am 20. März 2026 in der Stadtbücherei Goch. Bei den Bücherknirpsen lernen die Kinder schon früh Bücher\, Spiele und Musik für ihre Altersgruppe kennen. Eine Anmeldung ist nicht notwendig. \nDie Veranstaltungsreihe ist eine Kooperation der Stadtbücherei Goch und den Frühen Hilfen der Stadt Goch und findet jeden dritten Freitag im Monat von 10 bis 10:45 Uhr in der Stadtbücherei\, Pfalzdorfer Straße 47\, statt. Die Termine sind 20. März 2026\, 17. April 2026\, 15. Mai 2026\, 19. Juni 2026 sowie 17. Juli 2026. \nFragen zur neuen Veranstaltungsreihe beantworten Gina Zanichelli vom Jugendamt – Pädagogische Dienste\, Telefon 0 28 23 320-143 oder per E-Mail an gina.zanichelli@goch.de oder Daniela Verhoeven von der Stadtbücherei Goch\, Telefon 0 28 23 88 1 58 oder per E-Mail an stadtbuecherei@goch.de.
URL:https://kle-was.de/event/kleine-entdecker-grosse-abenteuer-veranstaltungsreihe-buecherknirpse/2027-04-16/
LOCATION:Stadtbücherei Goch\, Pfalzdorfer Str. 47\, Goch\, 47574\, Germany
CATEGORIES:Goch
GEO:51.6832159;6.163764
X-APPLE-STRUCTURED-LOCATION;VALUE=URI;X-ADDRESS=Stadtbücherei Goch Pfalzdorfer Str. 47 Goch 47574 Germany;X-APPLE-RADIUS=500;X-TITLE=Pfalzdorfer Str. 47:geo:6.163764,51.6832159
END:VEVENT
BEGIN:VEVENT
DTSTART;TZID=Europe/Berlin:20270521T100000
DTEND;TZID=Europe/Berlin:20270521T104500
DTSTAMP:20260422T212902
CREATED:20260305T162610Z
LAST-MODIFIED:20260305T162625Z
UID:10000080-1810893600-1810896300@kle-was.de
SUMMARY:Kleine Entdecker\, große Abenteuer – Veranstaltungsreihe „Bücherknirpse“
DESCRIPTION:Die neue kostenlose Veranstaltungsreihe „Bücherknirpse“ richtet sich an die Kleinsten zwischen 0 und 3 Jahren sowie ihre Eltern und startet am 20. März 2026 in der Stadtbücherei Goch. Bei den Bücherknirpsen lernen die Kinder schon früh Bücher\, Spiele und Musik für ihre Altersgruppe kennen. Eine Anmeldung ist nicht notwendig. \nDie Veranstaltungsreihe ist eine Kooperation der Stadtbücherei Goch und den Frühen Hilfen der Stadt Goch und findet jeden dritten Freitag im Monat von 10 bis 10:45 Uhr in der Stadtbücherei\, Pfalzdorfer Straße 47\, statt. Die Termine sind 20. März 2026\, 17. April 2026\, 15. Mai 2026\, 19. Juni 2026 sowie 17. Juli 2026. \nFragen zur neuen Veranstaltungsreihe beantworten Gina Zanichelli vom Jugendamt – Pädagogische Dienste\, Telefon 0 28 23 320-143 oder per E-Mail an gina.zanichelli@goch.de oder Daniela Verhoeven von der Stadtbücherei Goch\, Telefon 0 28 23 88 1 58 oder per E-Mail an stadtbuecherei@goch.de.
URL:https://kle-was.de/event/kleine-entdecker-grosse-abenteuer-veranstaltungsreihe-buecherknirpse/2027-05-21/
LOCATION:Stadtbücherei Goch\, Pfalzdorfer Str. 47\, Goch\, 47574\, Germany
CATEGORIES:Goch
GEO:51.6832159;6.163764
X-APPLE-STRUCTURED-LOCATION;VALUE=URI;X-ADDRESS=Stadtbücherei Goch Pfalzdorfer Str. 47 Goch 47574 Germany;X-APPLE-RADIUS=500;X-TITLE=Pfalzdorfer Str. 47:geo:6.163764,51.6832159
END:VEVENT
BEGIN:VEVENT
DTSTART;TZID=Europe/Berlin:20270618T100000
DTEND;TZID=Europe/Berlin:20270618T104500
DTSTAMP:20260422T212902
CREATED:20260305T162610Z
LAST-MODIFIED:20260305T162625Z
UID:10000081-1813312800-1813315500@kle-was.de
SUMMARY:Kleine Entdecker\, große Abenteuer – Veranstaltungsreihe „Bücherknirpse“
DESCRIPTION:Die neue kostenlose Veranstaltungsreihe „Bücherknirpse“ richtet sich an die Kleinsten zwischen 0 und 3 Jahren sowie ihre Eltern und startet am 20. März 2026 in der Stadtbücherei Goch. Bei den Bücherknirpsen lernen die Kinder schon früh Bücher\, Spiele und Musik für ihre Altersgruppe kennen. Eine Anmeldung ist nicht notwendig. \nDie Veranstaltungsreihe ist eine Kooperation der Stadtbücherei Goch und den Frühen Hilfen der Stadt Goch und findet jeden dritten Freitag im Monat von 10 bis 10:45 Uhr in der Stadtbücherei\, Pfalzdorfer Straße 47\, statt. Die Termine sind 20. März 2026\, 17. April 2026\, 15. Mai 2026\, 19. Juni 2026 sowie 17. Juli 2026. \nFragen zur neuen Veranstaltungsreihe beantworten Gina Zanichelli vom Jugendamt – Pädagogische Dienste\, Telefon 0 28 23 320-143 oder per E-Mail an gina.zanichelli@goch.de oder Daniela Verhoeven von der Stadtbücherei Goch\, Telefon 0 28 23 88 1 58 oder per E-Mail an stadtbuecherei@goch.de.
URL:https://kle-was.de/event/kleine-entdecker-grosse-abenteuer-veranstaltungsreihe-buecherknirpse/2027-06-18/
LOCATION:Stadtbücherei Goch\, Pfalzdorfer Str. 47\, Goch\, 47574\, Germany
CATEGORIES:Goch
GEO:51.6832159;6.163764
X-APPLE-STRUCTURED-LOCATION;VALUE=URI;X-ADDRESS=Stadtbücherei Goch Pfalzdorfer Str. 47 Goch 47574 Germany;X-APPLE-RADIUS=500;X-TITLE=Pfalzdorfer Str. 47:geo:6.163764,51.6832159
END:VEVENT
BEGIN:VEVENT
DTSTART;TZID=Europe/Berlin:20270716T100000
DTEND;TZID=Europe/Berlin:20270716T104500
DTSTAMP:20260422T212902
CREATED:20260305T162610Z
LAST-MODIFIED:20260305T162625Z
UID:10000082-1815732000-1815734700@kle-was.de
SUMMARY:Kleine Entdecker\, große Abenteuer – Veranstaltungsreihe „Bücherknirpse“
DESCRIPTION:Die neue kostenlose Veranstaltungsreihe „Bücherknirpse“ richtet sich an die Kleinsten zwischen 0 und 3 Jahren sowie ihre Eltern und startet am 20. März 2026 in der Stadtbücherei Goch. Bei den Bücherknirpsen lernen die Kinder schon früh Bücher\, Spiele und Musik für ihre Altersgruppe kennen. Eine Anmeldung ist nicht notwendig. \nDie Veranstaltungsreihe ist eine Kooperation der Stadtbücherei Goch und den Frühen Hilfen der Stadt Goch und findet jeden dritten Freitag im Monat von 10 bis 10:45 Uhr in der Stadtbücherei\, Pfalzdorfer Straße 47\, statt. Die Termine sind 20. März 2026\, 17. April 2026\, 15. Mai 2026\, 19. Juni 2026 sowie 17. Juli 2026. \nFragen zur neuen Veranstaltungsreihe beantworten Gina Zanichelli vom Jugendamt – Pädagogische Dienste\, Telefon 0 28 23 320-143 oder per E-Mail an gina.zanichelli@goch.de oder Daniela Verhoeven von der Stadtbücherei Goch\, Telefon 0 28 23 88 1 58 oder per E-Mail an stadtbuecherei@goch.de.
URL:https://kle-was.de/event/kleine-entdecker-grosse-abenteuer-veranstaltungsreihe-buecherknirpse/2027-07-16/
LOCATION:Stadtbücherei Goch\, Pfalzdorfer Str. 47\, Goch\, 47574\, Germany
CATEGORIES:Goch
GEO:51.6832159;6.163764
X-APPLE-STRUCTURED-LOCATION;VALUE=URI;X-ADDRESS=Stadtbücherei Goch Pfalzdorfer Str. 47 Goch 47574 Germany;X-APPLE-RADIUS=500;X-TITLE=Pfalzdorfer Str. 47:geo:6.163764,51.6832159
END:VEVENT
END:VCALENDAR