BEGIN:VCALENDAR
VERSION:2.0
PRODID:-//KLE-Was - ECPv6.15.17.1//NONSGML v1.0//EN
CALSCALE:GREGORIAN
METHOD:PUBLISH
X-WR-CALNAME:KLE-Was
X-ORIGINAL-URL:https://kle-was.de
X-WR-CALDESC:Veranstaltungen für KLE-Was
REFRESH-INTERVAL;VALUE=DURATION:PT1H
X-Robots-Tag:noindex
X-PUBLISHED-TTL:PT1H
BEGIN:VTIMEZONE
TZID:Europe/Berlin
BEGIN:DAYLIGHT
TZOFFSETFROM:+0100
TZOFFSETTO:+0200
TZNAME:CEST
DTSTART:20250330T010000
END:DAYLIGHT
BEGIN:STANDARD
TZOFFSETFROM:+0200
TZOFFSETTO:+0100
TZNAME:CET
DTSTART:20251026T010000
END:STANDARD
BEGIN:DAYLIGHT
TZOFFSETFROM:+0100
TZOFFSETTO:+0200
TZNAME:CEST
DTSTART:20260329T010000
END:DAYLIGHT
BEGIN:STANDARD
TZOFFSETFROM:+0200
TZOFFSETTO:+0100
TZNAME:CET
DTSTART:20261025T010000
END:STANDARD
BEGIN:DAYLIGHT
TZOFFSETFROM:+0100
TZOFFSETTO:+0200
TZNAME:CEST
DTSTART:20270328T010000
END:DAYLIGHT
BEGIN:STANDARD
TZOFFSETFROM:+0200
TZOFFSETTO:+0100
TZNAME:CET
DTSTART:20271031T010000
END:STANDARD
END:VTIMEZONE
BEGIN:VEVENT
DTSTART;TZID=Europe/Berlin:20260417T100000
DTEND;TZID=Europe/Berlin:20260417T104500
DTSTAMP:20260422T230143
CREATED:20260305T162610Z
LAST-MODIFIED:20260305T162625Z
UID:10000067-1776420000-1776422700@kle-was.de
SUMMARY:Kleine Entdecker\, große Abenteuer – Veranstaltungsreihe „Bücherknirpse“
DESCRIPTION:Die neue kostenlose Veranstaltungsreihe „Bücherknirpse“ richtet sich an die Kleinsten zwischen 0 und 3 Jahren sowie ihre Eltern und startet am 20. März 2026 in der Stadtbücherei Goch. Bei den Bücherknirpsen lernen die Kinder schon früh Bücher\, Spiele und Musik für ihre Altersgruppe kennen. Eine Anmeldung ist nicht notwendig. \nDie Veranstaltungsreihe ist eine Kooperation der Stadtbücherei Goch und den Frühen Hilfen der Stadt Goch und findet jeden dritten Freitag im Monat von 10 bis 10:45 Uhr in der Stadtbücherei\, Pfalzdorfer Straße 47\, statt. Die Termine sind 20. März 2026\, 17. April 2026\, 15. Mai 2026\, 19. Juni 2026 sowie 17. Juli 2026. \nFragen zur neuen Veranstaltungsreihe beantworten Gina Zanichelli vom Jugendamt – Pädagogische Dienste\, Telefon 0 28 23 320-143 oder per E-Mail an gina.zanichelli@goch.de oder Daniela Verhoeven von der Stadtbücherei Goch\, Telefon 0 28 23 88 1 58 oder per E-Mail an stadtbuecherei@goch.de.
URL:https://kle-was.de/event/kleine-entdecker-grosse-abenteuer-veranstaltungsreihe-buecherknirpse/2026-04-17/
LOCATION:Stadtbücherei Goch\, Pfalzdorfer Str. 47\, Goch\, 47574\, Germany
CATEGORIES:Goch
GEO:51.6832159;6.163764
X-APPLE-STRUCTURED-LOCATION;VALUE=URI;X-ADDRESS=Stadtbücherei Goch Pfalzdorfer Str. 47 Goch 47574 Germany;X-APPLE-RADIUS=500;X-TITLE=Pfalzdorfer Str. 47:geo:6.163764,51.6832159
END:VEVENT
BEGIN:VEVENT
DTSTART;TZID=Europe/Berlin:20260320T100000
DTEND;TZID=Europe/Berlin:20260320T104500
DTSTAMP:20260422T230143
CREATED:20260305T162610Z
LAST-MODIFIED:20260305T162625Z
UID:10000066-1774000800-1774003500@kle-was.de
SUMMARY:Kleine Entdecker\, große Abenteuer – Veranstaltungsreihe „Bücherknirpse“
DESCRIPTION:Die neue kostenlose Veranstaltungsreihe „Bücherknirpse“ richtet sich an die Kleinsten zwischen 0 und 3 Jahren sowie ihre Eltern und startet am 20. März 2026 in der Stadtbücherei Goch. Bei den Bücherknirpsen lernen die Kinder schon früh Bücher\, Spiele und Musik für ihre Altersgruppe kennen. Eine Anmeldung ist nicht notwendig. \nDie Veranstaltungsreihe ist eine Kooperation der Stadtbücherei Goch und den Frühen Hilfen der Stadt Goch und findet jeden dritten Freitag im Monat von 10 bis 10:45 Uhr in der Stadtbücherei\, Pfalzdorfer Straße 47\, statt. Die Termine sind 20. März 2026\, 17. April 2026\, 15. Mai 2026\, 19. Juni 2026 sowie 17. Juli 2026. \nFragen zur neuen Veranstaltungsreihe beantworten Gina Zanichelli vom Jugendamt – Pädagogische Dienste\, Telefon 0 28 23 320-143 oder per E-Mail an gina.zanichelli@goch.de oder Daniela Verhoeven von der Stadtbücherei Goch\, Telefon 0 28 23 88 1 58 oder per E-Mail an stadtbuecherei@goch.de.
URL:https://kle-was.de/event/kleine-entdecker-grosse-abenteuer-veranstaltungsreihe-buecherknirpse/2026-03-20/
LOCATION:Stadtbücherei Goch\, Pfalzdorfer Str. 47\, Goch\, 47574\, Germany
CATEGORIES:Goch
GEO:51.6832159;6.163764
X-APPLE-STRUCTURED-LOCATION;VALUE=URI;X-ADDRESS=Stadtbücherei Goch Pfalzdorfer Str. 47 Goch 47574 Germany;X-APPLE-RADIUS=500;X-TITLE=Pfalzdorfer Str. 47:geo:6.163764,51.6832159
END:VEVENT
BEGIN:VEVENT
DTSTART;TZID=Europe/Berlin:20260313T173000
DTEND;TZID=Europe/Berlin:20260313T200000
DTSTAMP:20260422T230143
CREATED:20260304T110204Z
LAST-MODIFIED:20260304T110212Z
UID:10000064-1773423000-1773432000@kle-was.de
SUMMARY:Lesung und Gespräch mit Andrea Franken
DESCRIPTION:Am Freitag\, 13.03.2026\, von 17:30 bis 20:00 Uhr liest Trauerrednerin Andrea Franken in der Stadtbücherei Goch aus ihrem Buch „Vanilleeis zum letzten Gruß“. Es geht um inspirierende Geschichten von Leben\, Tod und Abschied. Die Eintrittsgebühr beträgt 5 Euro. Anmeldungen sind bei der Stadtbücherei Goch\, Telefon 0 28 23 / 88 – 158 sowie beim Kooperationspartner\, der VHS Goch\, Telefon 0 28 23 / 60 60\, zu den Öffnungszeiten möglich. \nWenn sich eine Botschaft durch die Geschichten der gebürtigen Uedemerin zieht\, dann die: „Geht nicht\, gibt’s nicht!“. Mutig\, offen und empathisch begleitet die gelernte Ergotherapeutin seit sieben Jahren Menschen\, die einen geliebten Familienangehörigen oder Freund verloren haben. Dabei geht es ihr nicht darum\, konventionelle Standards einzuhalten\, sondern die Verstorbenen würdig\, besonders und persönlich zu verabschieden.
URL:https://kle-was.de/event/lesung-und-gespraech-mit-andrea-franken/
LOCATION:Stadtbücherei Goch\, Pfalzdorfer Str. 47\, Goch\, 47574\, Germany
CATEGORIES:Goch,Lesung
ATTACH;FMTTYPE=image/jpeg:https://kle-was.de/wp-content/uploads/2026/03/Andrea-Franken-Lesung-2602.jpg
GEO:51.6832159;6.163764
X-APPLE-STRUCTURED-LOCATION;VALUE=URI;X-ADDRESS=Stadtbücherei Goch Pfalzdorfer Str. 47 Goch 47574 Germany;X-APPLE-RADIUS=500;X-TITLE=Pfalzdorfer Str. 47:geo:6.163764,51.6832159
END:VEVENT
END:VCALENDAR