BEGIN:VCALENDAR
VERSION:2.0
PRODID:-//KLE-Was - ECPv6.15.17.1//NONSGML v1.0//EN
CALSCALE:GREGORIAN
METHOD:PUBLISH
X-WR-CALNAME:KLE-Was
X-ORIGINAL-URL:https://kle-was.de
X-WR-CALDESC:Veranstaltungen für KLE-Was
REFRESH-INTERVAL;VALUE=DURATION:PT1H
X-Robots-Tag:noindex
X-PUBLISHED-TTL:PT1H
BEGIN:VTIMEZONE
TZID:Europe/Berlin
BEGIN:DAYLIGHT
TZOFFSETFROM:+0100
TZOFFSETTO:+0200
TZNAME:CEST
DTSTART:20250330T010000
END:DAYLIGHT
BEGIN:STANDARD
TZOFFSETFROM:+0200
TZOFFSETTO:+0100
TZNAME:CET
DTSTART:20251026T010000
END:STANDARD
BEGIN:DAYLIGHT
TZOFFSETFROM:+0100
TZOFFSETTO:+0200
TZNAME:CEST
DTSTART:20260329T010000
END:DAYLIGHT
BEGIN:STANDARD
TZOFFSETFROM:+0200
TZOFFSETTO:+0100
TZNAME:CET
DTSTART:20261025T010000
END:STANDARD
BEGIN:DAYLIGHT
TZOFFSETFROM:+0100
TZOFFSETTO:+0200
TZNAME:CEST
DTSTART:20270328T010000
END:DAYLIGHT
BEGIN:STANDARD
TZOFFSETFROM:+0200
TZOFFSETTO:+0100
TZNAME:CET
DTSTART:20271031T010000
END:STANDARD
END:VTIMEZONE
BEGIN:VEVENT
DTSTART;TZID=Europe/Berlin:20260306T180000
DTEND;TZID=Europe/Berlin:20260306T180000
DTSTAMP:20260422T180140
CREATED:20260304T171648Z
LAST-MODIFIED:20260304T171656Z
UID:10000065-1772820000-1772820000@kle-was.de
SUMMARY:Mundartstammtisch
DESCRIPTION:Am kommenden Freitag treffen sich um 18 Uhr die Plattproater im Marktstübchen in Kalkar. \nZum Thema „Ütt kööl en kälder“ erwarten die Freunde von Land en Lüj wieder Interessierte Plattproater. \nGerne können einige Stücke oder Dönnekes vorgetragen werden.
URL:https://kle-was.de/event/mundartstammtisch/
LOCATION:Marktstübchen Kalkar\, Markt 25\, Kalkar\, 47546\, Germany
CATEGORIES:Gemeinschaft,Geschichte,Kalkar,Kultur
ATTACH;FMTTYPE=image/jpeg:https://kle-was.de/wp-content/uploads/2026/03/neelam279-stamp-album-4581942_1920.jpg
GEO:51.7384786;6.2926052
X-APPLE-STRUCTURED-LOCATION;VALUE=URI;X-ADDRESS=Marktstübchen Kalkar Markt 25 Kalkar 47546 Germany;X-APPLE-RADIUS=500;X-TITLE=Markt 25:geo:6.2926052,51.7384786
END:VEVENT
END:VCALENDAR