BEGIN:VCALENDAR
VERSION:2.0
PRODID:-//KLE-Was - ECPv6.15.17.1//NONSGML v1.0//EN
CALSCALE:GREGORIAN
METHOD:PUBLISH
X-WR-CALNAME:KLE-Was
X-ORIGINAL-URL:https://kle-was.de
X-WR-CALDESC:Veranstaltungen für KLE-Was
REFRESH-INTERVAL;VALUE=DURATION:PT1H
X-Robots-Tag:noindex
X-PUBLISHED-TTL:PT1H
BEGIN:VTIMEZONE
TZID:Europe/Berlin
BEGIN:DAYLIGHT
TZOFFSETFROM:+0100
TZOFFSETTO:+0200
TZNAME:CEST
DTSTART:20250330T010000
END:DAYLIGHT
BEGIN:STANDARD
TZOFFSETFROM:+0200
TZOFFSETTO:+0100
TZNAME:CET
DTSTART:20251026T010000
END:STANDARD
BEGIN:DAYLIGHT
TZOFFSETFROM:+0100
TZOFFSETTO:+0200
TZNAME:CEST
DTSTART:20260329T010000
END:DAYLIGHT
BEGIN:STANDARD
TZOFFSETFROM:+0200
TZOFFSETTO:+0100
TZNAME:CET
DTSTART:20261025T010000
END:STANDARD
BEGIN:DAYLIGHT
TZOFFSETFROM:+0100
TZOFFSETTO:+0200
TZNAME:CEST
DTSTART:20270328T010000
END:DAYLIGHT
BEGIN:STANDARD
TZOFFSETFROM:+0200
TZOFFSETTO:+0100
TZNAME:CET
DTSTART:20271031T010000
END:STANDARD
END:VTIMEZONE
BEGIN:VEVENT
DTSTART;TZID=Europe/Berlin:20260315T170000
DTEND;TZID=Europe/Berlin:20260315T170000
DTSTAMP:20260422T130027
CREATED:20260305T193148Z
LAST-MODIFIED:20260305T193152Z
UID:10000084-1773594000-1773594000@kle-was.de
SUMMARY:reeserviert - Zwischen Wort und Klavier
DESCRIPTION:Das kommenden „reeserviert“-Konzert am Sonntag\, den 15. März\, um 17 Uhr\, im Bürgerhaus Rees\, widmet sich den schillernden 1920er-Jahren und verbindet auf besondere Weise Literatur und Musik. Im Mittelpunkt steht dabei das spannungsreiche Wechselspiel zwischen rezitierten Texten und eigenständigen Klavierwerken. \nThomas Brokamp\, Philosophie-Lehrer am Willibrord-Gymnasium\, rezitiert Texte von Bertolt Brecht\, Joachim Ringelnatz\, Kurt Tucholsky\, Erich Kästner\, Lili Grün und Mascha Kaléko. Ihre Werke spiegeln den Zeitgeist der Weimarer Republik: Großstadtflair und Gesellschaftskritik\, Melancholie und Ironie\, politische Schärfe und poetische Leichtigkeit. \nDie musikalische Seite des Abends gestaltet Anja Speh mit Klavierwerken von Erik Satie\, Kurt Weill\, Hugo Distler\, Jacques Ibert\, Erwin Schulhoff und Bohuslav Martinů. Ihre Kompositionen stehen exemplarisch für die stilistische Vielfalt der Zeit – zwischen Avantgarde\, Neoklassizismus\, Jazz-Einflüssen und feinsinniger Klangpoesie. \nMusik und Rezitation wechseln sich bewusst ab und treten in einen künstlerischen Dialog. Es handelt sich ausdrücklich nicht um eine Lesung mit musikalischer Begleitung\, sondern um zwei eigenständige Ausdrucksformen\, die einander kontrastieren\, ergänzen und kommentieren. \nSo entsteht ein vielschichtiges Porträt einer Epoche im Aufbruch – ein Abend\, der die Atmosphäre der 1920er-Jahre lebendig werden lässt und Literatur wie Musik gleichermaßen zur Geltung bringt. Tickets gibt es an der Abendkasse für 15 Euro (erm. 12 Euro).
URL:https://kle-was.de/event/reeserviert-zwischen-wort-und-klavier/
LOCATION:Bürgerhaus Rees\, Markt 1\, Rees\, 46459\, Germany
CATEGORIES:Konzert,Lesung,Rees
ATTACH;FMTTYPE=image/jpeg:https://kle-was.de/wp-content/uploads/2026/03/Pressemitteilung_REES_2026_051_reeserviert-15.3.-C-Heiner-Frost-scaled.jpg
GEO:51.7578173;6.396923
X-APPLE-STRUCTURED-LOCATION;VALUE=URI;X-ADDRESS=Bürgerhaus Rees Markt 1 Rees 46459 Germany;X-APPLE-RADIUS=500;X-TITLE=Markt 1:geo:6.396923,51.7578173
END:VEVENT
BEGIN:VEVENT
DTSTART;TZID=Europe/Berlin:20260307T160000
DTEND;TZID=Europe/Berlin:20260307T160000
DTSTAMP:20260422T130027
CREATED:20260219T130020Z
LAST-MODIFIED:20260219T130023Z
UID:10000042-1772899200-1772899200@kle-was.de
SUMMARY:Kindertheater: Die Wunschhändlerin
DESCRIPTION:Was kann der Preis sein für Reichtum\, Schönheit und Erfolg? Dieser Frage widmet sich das kommende Kindertheater „Die Wunschhändlerin“ am Samstag\, den 7. März\, um 16 Uhr\, im Reeser Bürgerhaus. Es ist ein magisches Märchen mit Musik und Maskenspiel für Kinder ab 4 Jahren\, aufgeführt vom Luna Theater aus Beulich. \nIm Mittelpunkt des Stückes steht Xirxe. Sie ist tollpatschig\, hat X-Beine und tappt in jedes Fettnäpfchen. Ihr einziger Freund ist ein trommelnder Baum. \nEines Tages begegnet sie der Wunschhändlerin. In deren Wunschkammer werden Träume wahr\, wie Reichtum\, Schönheit\, Erfolg!  Das alles gibt es fast geschenkt\, kostet „nur“ die Seele. Xirxe überlegt nicht lange. \nPotzblitz! Kaum wieder zu erkennen ist sie: gerade Beine\, schicke Kleider\, ein Koffer voller Geld. Da lassen Erfolg und Bewunderung nicht lange auf sich warten. Doch warum freut sie sich nicht? Irgendetwas ist anders. Irgendetwas fehlt. Etwa die verkaufte Seele? \nXirxe ist nicht die Erste\, die aus Sehnsucht nach Anerkennung ihr eigenes ICH aufgibt\, um anders zu sein. Das Stück widmet sich den Themen Ausgrenzung\, Anders-Sein und den wichtigen Werten im Leben. \nDie Kinder werden aktiv ins Stück einbezogen. Auch ihnen bietet die Wunschhändlerin ihre Dienste an. Sie können selbst vor den Versuchungen stehen\, denen die Heldin erliegt. \nDer Eintritt beträgt 3 Euro für Kinder und 4 Euro für Erwachsene. Karten sind in der Touristeninformation\, Markt 41 (Mo bis Sa von 10 – 16 Uhr\, so 10 – 13 Uhr geöffnet) erhältlich oder im Online-Shop unter www.stadt-rees.de/shop
URL:https://kle-was.de/event/kindertheater-die-wunschhaendlerin/
LOCATION:Bürgerhaus Rees\, Markt 1\, Rees\, 46459\, Germany
CATEGORIES:Kultur,Rees,Theater
ATTACH;FMTTYPE=image/jpeg:https://kle-was.de/wp-content/uploads/2026/02/Pressemitteilung_REES_2026_041_Kindertheater-Die-Wunschhaendlering-7.3.2026-C-Michael-Reuland.jpg
GEO:51.7578173;6.396923
X-APPLE-STRUCTURED-LOCATION;VALUE=URI;X-ADDRESS=Bürgerhaus Rees Markt 1 Rees 46459 Germany;X-APPLE-RADIUS=500;X-TITLE=Markt 1:geo:6.396923,51.7578173
END:VEVENT
END:VCALENDAR