BEGIN:VCALENDAR
VERSION:2.0
PRODID:-//KLE-Was - ECPv6.15.17.1//NONSGML v1.0//EN
CALSCALE:GREGORIAN
METHOD:PUBLISH
X-ORIGINAL-URL:https://kle-was.de
X-WR-CALDESC:Veranstaltungen für KLE-Was
REFRESH-INTERVAL;VALUE=DURATION:PT1H
X-Robots-Tag:noindex
X-PUBLISHED-TTL:PT1H
BEGIN:VTIMEZONE
TZID:Europe/Berlin
BEGIN:DAYLIGHT
TZOFFSETFROM:+0100
TZOFFSETTO:+0200
TZNAME:CEST
DTSTART:20250330T010000
END:DAYLIGHT
BEGIN:STANDARD
TZOFFSETFROM:+0200
TZOFFSETTO:+0100
TZNAME:CET
DTSTART:20251026T010000
END:STANDARD
BEGIN:DAYLIGHT
TZOFFSETFROM:+0100
TZOFFSETTO:+0200
TZNAME:CEST
DTSTART:20260329T010000
END:DAYLIGHT
BEGIN:STANDARD
TZOFFSETFROM:+0200
TZOFFSETTO:+0100
TZNAME:CET
DTSTART:20261025T010000
END:STANDARD
BEGIN:DAYLIGHT
TZOFFSETFROM:+0100
TZOFFSETTO:+0200
TZNAME:CEST
DTSTART:20270328T010000
END:DAYLIGHT
BEGIN:STANDARD
TZOFFSETFROM:+0200
TZOFFSETTO:+0100
TZNAME:CET
DTSTART:20271031T010000
END:STANDARD
END:VTIMEZONE
BEGIN:VEVENT
DTSTART;TZID=Europe/Berlin:20260424T200000
DTEND;TZID=Europe/Berlin:20260424T220000
DTSTAMP:20260421T164121
CREATED:20260218T132630Z
LAST-MODIFIED:20260218T132633Z
UID:10000039-1777060800-1777068000@kle-was.de
SUMMARY:Lesung NUKLEAR - Thriller
DESCRIPTION:Die Katholischen Büchereien Uedem und Uedemerbruch sowie die Kulturkiste Uedem e.V. laden zu einem besonderen literarischen Abend ein: Der Uedemer Autor Maximilian Wülfing alias J. F. Bernhard liest aus seinem Thriller „NUKLEAR“. \n\n\n\n\n\n\n\n\n\n\n\n\n\nBei dieser Lesung zum Politthriller „Nuklear“ von J. F. Bernhard erleben Besucherinnen und Besucher aktuelle sicherheitspolitische Themen aus einer spannenden Perspektive. Das Buch zeigt ein realistisches Szenario moderner hybrider Kriegführung mit Cyberangriffen\, Drohneneinsätzen\, Desinformation und über Jahre aufgebauten Schläferzellen zur gezielten Destabilisierung von Staaten. Der Roman verbindet geopolitische Konflikte mit technischen und militärischen Aspekten und zeichnet ein vielschichtiges Bild moderner Bedrohungslagen. Durch umfangreiche Recherche wirkt die Darstellung sachlich\, plausibel und beklemmend nah an der Realität. Die Lesung richtet sich an alle\, die sich für Politik\, Sicherheit und aktuelle globale Entwicklungen interessieren. \nDer Preis der Karten beträgt im Vorverkauf 7\,00 € und an der Abendkasse 10\,00 € (inkl. Vorverkaufsgebühr) bei freier Platzwahl. \nAuf Wunsch werden die Karten auch zugeschickt. Dazu überweisen Sie bitte die Gesamtsumme der Karten zzgl. 3 Euro (unter Angabe Ihres Namens und Ihrer Adresse) auf das Konto der Kulturkiste Uedem e.V. \nIBAN: DE78 3245 0000 0005 1374 27\nBIC: WELADED1KLE \nDer Versand der Karten erfolgt nach Zahlungseingang innerhalb der nächsten 3 Werktage. \nKarten können auch direkt erworben werden bei: \n\nKath. Bücherei Uedem | Mühlenstraße 44 | 47589 Uedem | 02825 – 8690\nKath. Bücherei Uedemerbruch | Bohnenstraße 1 | 47589 Uedem\n\n  \n\nZentrale der Gemeinde Uedem | Mosterstraße 2 | 47589 Uedem | 02825 – 880\n\nMontag\, Dienstag:  8:30 bis 12:30 Uhr und 14:00 bis 16:00 Uhr \nMittwoch: 8:30 bis 12:30 Uhr \nDonnerstag: 8:30 bis 12:30 Uhr und 14:00 bis 18:00 Uhr \nFreitag: 8:30 bis 12:30 Uhr \nSamstag: 10:00 bis 12:00 Uhr am zweiten Samstag jeden Monats
URL:https://kle-was.de/event/lesung-nuklear-thriller/
LOCATION:Scheune auf dem Thelenhof\, Uedemerfelder Weg 39\, Uedem\, 47589\, Germany
CATEGORIES:Kultur,Lesung,Uedem
ATTACH;FMTTYPE=application/pdf:https://kle-was.de/wp-content/uploads/2026/02/Plakat_A3-Lesung-NUKLEAR.pdf
GEO:51.6624125;6.2948725
X-APPLE-STRUCTURED-LOCATION;VALUE=URI;X-ADDRESS=Scheune auf dem Thelenhof Uedemerfelder Weg 39 Uedem 47589 Germany;X-APPLE-RADIUS=500;X-TITLE=Uedemerfelder Weg 39:geo:6.2948725,51.6624125
END:VEVENT
END:VCALENDAR