BEGIN:VCALENDAR
VERSION:2.0
PRODID:-//KLE-Was - ECPv6.15.17.1//NONSGML v1.0//EN
CALSCALE:GREGORIAN
METHOD:PUBLISH
X-ORIGINAL-URL:https://kle-was.de
X-WR-CALDESC:Veranstaltungen für KLE-Was
REFRESH-INTERVAL;VALUE=DURATION:PT1H
X-Robots-Tag:noindex
X-PUBLISHED-TTL:PT1H
BEGIN:VTIMEZONE
TZID:Europe/Berlin
BEGIN:DAYLIGHT
TZOFFSETFROM:+0100
TZOFFSETTO:+0200
TZNAME:CEST
DTSTART:20250330T010000
END:DAYLIGHT
BEGIN:STANDARD
TZOFFSETFROM:+0200
TZOFFSETTO:+0100
TZNAME:CET
DTSTART:20251026T010000
END:STANDARD
BEGIN:DAYLIGHT
TZOFFSETFROM:+0100
TZOFFSETTO:+0200
TZNAME:CEST
DTSTART:20260329T010000
END:DAYLIGHT
BEGIN:STANDARD
TZOFFSETFROM:+0200
TZOFFSETTO:+0100
TZNAME:CET
DTSTART:20261025T010000
END:STANDARD
BEGIN:DAYLIGHT
TZOFFSETFROM:+0100
TZOFFSETTO:+0200
TZNAME:CEST
DTSTART:20270328T010000
END:DAYLIGHT
BEGIN:STANDARD
TZOFFSETFROM:+0200
TZOFFSETTO:+0100
TZNAME:CET
DTSTART:20271031T010000
END:STANDARD
END:VTIMEZONE
BEGIN:VEVENT
DTSTART;TZID=Europe/Berlin:20260308T110000
DTEND;TZID=Europe/Berlin:20260308T170000
DTSTAMP:20260421T144357
CREATED:20260219T132017Z
LAST-MODIFIED:20260219T134507Z
UID:10000046-1772967600-1772989200@kle-was.de
SUMMARY:Tag der Archive - Gemeindearchiv Kerken
DESCRIPTION:Auch im Gemeindearchiv Kerken können Besucherinnen und Besucher dem Motto „Alte Heimat – neue Heimat“ nachspüren: Am Sonntag\, 08. März 2026\, zeigt das Gemeindearchiv in Kooperation mit der Robert-Jungk-Gesamtschule von 11 bis 17 Uhr eine kleine Ausstellung. Sie enthält unter anderem Dokumente und Fotos zu den Menschen\, die nach dem Zweiten Weltkrieg als Vertriebene den beschwerlichen Weg nach Aldekerk und Nieukerk hinter sich gebracht und hier eine neue Heimat gefunden haben. Sogar „über den großen Teich“ gingen die Wege einiger Kerkenerinnen und Kerkener\, die freiwillig oder auch gezwungenermaßen in der Vergangenheit nach Süd- und Nordamerika ausgewandert sind. Für Interessierte werden darüber hinaus Führungen durch die Archiv- und Magazinräume angeboten\, wo sich weitere spannende Archivalien entdecken lassen. Adresse: Gemeindearchiv Kerken\, Krefelder Straße 2\, 47647 Kerken-Nieukerk.
URL:https://kle-was.de/event/tag-der-archive-gemeindearchiv-kerken/
LOCATION:Gemeindearchiv Kerken\, Krefelder Str. 2\, Kerken\, 47647\, Germany
CATEGORIES:Führung,Kerken
ATTACH;FMTTYPE=image/jpeg:https://kle-was.de/wp-content/uploads/2026/02/PM26-024-Foto-Kreisarchiv-Kleve-in-Geldern-©Kreis-Kleve-edited-scaled.jpg
GEO:51.4562246;6.3744285
X-APPLE-STRUCTURED-LOCATION;VALUE=URI;X-ADDRESS=Gemeindearchiv Kerken Krefelder Str. 2 Kerken 47647 Germany;X-APPLE-RADIUS=500;X-TITLE=Krefelder Str. 2:geo:6.3744285,51.4562246
END:VEVENT
END:VCALENDAR